BEGIN:VCALENDAR
VERSION:2.0
PRODID:-//Silliman University
CALSCALE:GREGORIAN
METHOD:PUBLISH
X-WR-CALNAME:Silliman University
X-ORIGINAL-URL:https://su.edu.ph/event/school-of-basic-education-graduation-exercises/
X-WR-CALDESC:NOW LIVE: 2nd Senior High School Graduation
BEGIN:VEVENT
DTSTART:20190328T000000
DTEND:20190328T000000
SUMMARY:NOW LIVE: 2nd Senior High School Graduation
DESCRIPTION:
LOCATION:
END:VEVENT
END:VCALENDAR
