BEGIN:VCALENDAR
VERSION:2.0
PRODID:-//Silliman University
CALSCALE:GREGORIAN
METHOD:PUBLISH
X-WR-CALNAME:Silliman University
X-ORIGINAL-URL:https://su.edu.ph/event/10th-summer-university-commencement-schedule/
X-WR-CALDESC:10th Summer University Commencement Schedule
BEGIN:VEVENT
DTSTART:20190519T093000
DTEND:20190519T110000
SUMMARY:10th Summer University Commencement Schedule
DESCRIPTION:
LOCATION:Silliman University Church
END:VEVENT
END:VCALENDAR
