BEGIN:VCALENDAR
VERSION:2.0
PRODID:-//Silliman University
CALSCALE:GREGORIAN
METHOD:PUBLISH
X-WR-CALNAME:Silliman University
X-ORIGINAL-URL:https://su.edu.ph/event/junior-high-school-parent-orientation-schedule/
X-WR-CALDESC:Junior High School Parent Orientation Schedule
BEGIN:VEVENT
DTSTART:20190604T000000
DTEND:20190507T000000
SUMMARY:Junior High School Parent Orientation Schedule
DESCRIPTION:
LOCATION:
END:VEVENT
END:VCALENDAR
