BEGIN:VCALENDAR
VERSION:2.0
PRODID:-//Silliman University
CALSCALE:GREGORIAN
METHOD:PUBLISH
X-WR-CALNAME:Silliman University
X-ORIGINAL-URL:https://su.edu.ph/event/message-from-the-bot-chair/
X-WR-CALDESC:Message from the BoT Chair
BEGIN:VEVENT
DTSTART:20191224T000000
DTEND:
SUMMARY:Message from the BoT Chair
DESCRIPTION:
LOCATION:
END:VEVENT
END:VCALENDAR
