BEGIN:VCALENDAR
VERSION:2.0
PRODID:-//Silliman University
CALSCALE:GREGORIAN
METHOD:PUBLISH
X-WR-CALNAME:Silliman University
X-ORIGINAL-URL:https://su.edu.ph/event/university-christian-life-emphasis-month-uclem/
X-WR-CALDESC:University Christian Life Emphasis Month (UCLEM)
BEGIN:VEVENT
DTSTART:20200111T000000
DTEND:20200127T000000
SUMMARY:University Christian Life Emphasis Month (UCLEM)
DESCRIPTION:
LOCATION:
END:VEVENT
END:VCALENDAR
