BEGIN:VCALENDAR
VERSION:2.0
PRODID:-//Silliman University
CALSCALE:GREGORIAN
METHOD:PUBLISH
X-WR-CALNAME:Silliman University
X-ORIGINAL-URL:https://su.edu.ph/event/japan-summer-service-learning-program-2020/
X-WR-CALDESC:Japan Summer Service-Learning Program 2020
BEGIN:VEVENT
DTSTART:20200703T000000
DTEND:20200723T000000
SUMMARY:Japan Summer Service-Learning Program 2020
DESCRIPTION:
LOCATION:Tokyo, Japan
END:VEVENT
END:VCALENDAR
