BEGIN:VCALENDAR
VERSION:2.0
PRODID:-//Silliman University
CALSCALE:GREGORIAN
METHOD:PUBLISH
X-WR-CALNAME:Silliman University
X-ORIGINAL-URL:https://su.edu.ph/event/timeless-arias/
X-WR-CALDESC:Timeless Arias
BEGIN:VEVENT
DTSTART:20200303T200000
DTEND:20200305T093000
SUMMARY:Timeless Arias
DESCRIPTION:
LOCATION:Claire Isabel McGill Luce Auditorium
END:VEVENT
END:VCALENDAR
