BEGIN:VCALENDAR
VERSION:2.0
PRODID:-//Silliman University
CALSCALE:GREGORIAN
METHOD:PUBLISH
X-WR-CALNAME:Silliman University
X-ORIGINAL-URL:https://su.edu.ph/event/announcement-2/
X-WR-CALDESC:ANNOUNCEMENT
BEGIN:VEVENT
DTSTART:20200301T000000
DTEND:20200531T000000
SUMMARY:ANNOUNCEMENT
DESCRIPTION:
LOCATION:
END:VEVENT
END:VCALENDAR
