BEGIN:VCALENDAR
VERSION:2.0
PRODID:-//Silliman University
CALSCALE:GREGORIAN
METHOD:PUBLISH
X-WR-CALNAME:Silliman University
X-ORIGINAL-URL:https://su.edu.ph/event/cvid-19-and-the-gender-divide-overcoming-challenges-finding-a-better-normal-for-women-and-girls/
X-WR-CALDESC:COVID-19 and the Gender Divide: Overcoming Challenges, Finding a Better Normal for Women and Girls
BEGIN:VEVENT
DTSTART:20200619T140000
DTEND:20200619T170000
SUMMARY:COVID-19 and the Gender Divide: Overcoming Challenges, Finding a Better Normal for Women and Girls
DESCRIPTION:
LOCATION:
END:VEVENT
END:VCALENDAR
