BEGIN:VCALENDAR
VERSION:2.0
PRODID:-//Silliman University
CALSCALE:GREGORIAN
METHOD:PUBLISH
X-WR-CALNAME:Silliman University
X-ORIGINAL-URL:https://su.edu.ph/event/bisayaw-a-visayan-folk-dance-festival/
X-WR-CALDESC:BISAYAW: A Visayan Folk Dance Festival
BEGIN:VEVENT
DTSTART:20211015T190000
DTEND:20211015T213000
SUMMARY:BISAYAW: A Visayan Folk Dance Festival
DESCRIPTION:
LOCATION:
END:VEVENT
END:VCALENDAR
