BEGIN:VCALENDAR
VERSION:2.0
PRODID:-//Silliman University
CALSCALE:GREGORIAN
METHOD:PUBLISH
X-WR-CALNAME:Silliman University
X-ORIGINAL-URL:https://su.edu.ph/event/university-christian-life-emphasis-month-uclem-calendar-of-activities-for-the-2nd-semester-sy-2021-2022/
X-WR-CALDESC:University Christian Life Emphasis Month (UCLEM) Calendar of Activities for the 2nd Semester, SY 2021-2022
BEGIN:VEVENT
DTSTART:20220306T000000
DTEND:20220327T000000
SUMMARY:University Christian Life Emphasis Month (UCLEM) Calendar of Activities for the 2nd Semester, SY 2021-2022
DESCRIPTION:
LOCATION:
END:VEVENT
END:VCALENDAR
