BEGIN:VCALENDAR
VERSION:2.0
PRODID:-//Silliman University
CALSCALE:GREGORIAN
METHOD:PUBLISH
X-WR-CALNAME:Silliman University
X-ORIGINAL-URL:https://su.edu.ph/event/silliman-university-campus-choristers-in-love/
X-WR-CALDESC:Silliman University Campus Choristers in Love
BEGIN:VEVENT
DTSTART:20180210T200000
DTEND:20180210T220000
SUMMARY:Silliman University Campus Choristers in Love
DESCRIPTION:
LOCATION:Claire Isabel McGill Luce Auditorium
END:VEVENT
END:VCALENDAR
