BEGIN:VCALENDAR
VERSION:2.0
PRODID:-//Silliman University
CALSCALE:GREGORIAN
METHOD:PUBLISH
X-WR-CALNAME:Silliman University
X-ORIGINAL-URL:https://su.edu.ph/event/laudamus-dominum-a-night-of-sacred-music/
X-WR-CALDESC:Laudamus Dominum: A Night of Sacred Music
BEGIN:VEVENT
DTSTART:20180511T180000
DTEND:20180511T210000
SUMMARY:Laudamus Dominum: A Night of Sacred Music
DESCRIPTION:
LOCATION:St. Augustine of Hippo Parish, Bacong Negros Oriental
END:VEVENT
END:VCALENDAR
