BEGIN:VCALENDAR
VERSION:2.0
PRODID:-//Silliman University
CALSCALE:GREGORIAN
METHOD:PUBLISH
X-WR-CALNAME:Silliman University
X-ORIGINAL-URL:https://su.edu.ph/event/106th-university-commencement/
X-WR-CALDESC:106th University Commencement Calendar of Activities
BEGIN:VEVENT
DTSTART:20190324T150000
DTEND:20190324T183000
SUMMARY:106th University Commencement Calendar of Activities
DESCRIPTION:
LOCATION:SU Gymnasium
END:VEVENT
END:VCALENDAR
