BEGIN:VCALENDAR
VERSION:2.0
PRODID:-//Silliman University
CALSCALE:GREGORIAN
METHOD:PUBLISH
X-WR-CALNAME:Silliman University
X-ORIGINAL-URL:https://su.edu.ph/event/scholarship-qualifying-examination/
X-WR-CALDESC:Scholarship Qualifying Examination
BEGIN:VEVENT
DTSTART:20190314T000000
DTEND:20190316T000000
SUMMARY:Scholarship Qualifying Examination
DESCRIPTION:
LOCATION:Various locations
END:VEVENT
END:VCALENDAR
