BEGIN:VCALENDAR
VERSION:2.0
PRODID:-//Silliman University
CALSCALE:GREGORIAN
METHOD:PUBLISH
X-WR-CALNAME:Silliman University
X-ORIGINAL-URL:https://su.edu.ph/event/call-for-submissions-for-the-cdd-journal/
X-WR-CALDESC:Call for Submissions for the CDD Journal
BEGIN:VEVENT
DTSTART:
DTEND:
SUMMARY:Call for Submissions for the CDD Journal
DESCRIPTION:
LOCATION:
END:VEVENT
END:VCALENDAR
